BEGIN:VCALENDAR
VERSION:2.0
PRODID:-//Scripture Foundation Ministries - ECPv6.15.20//NONSGML v1.0//EN
CALSCALE:GREGORIAN
METHOD:PUBLISH
X-WR-CALNAME:Scripture Foundation Ministries
X-ORIGINAL-URL:https://www.sfm.org.ng
X-WR-CALDESC:Events for Scripture Foundation Ministries
REFRESH-INTERVAL;VALUE=DURATION:PT1H
X-Robots-Tag:noindex
X-PUBLISHED-TTL:PT1H
BEGIN:VTIMEZONE
TZID:UTC
BEGIN:STANDARD
TZOFFSETFROM:+0000
TZOFFSETTO:+0000
TZNAME:UTC
DTSTART:20230101T000000
END:STANDARD
END:VTIMEZONE
BEGIN:VEVENT
DTSTART;TZID=UTC:20241231T210000
DTEND;TZID=UTC:20241231T210000
DTSTAMP:20260422T103912
CREATED:20241227T130719Z
LAST-MODIFIED:20241227T142520Z
UID:3885-1735678800-1735678800@www.sfm.org.ng
SUMMARY:Crossover
DESCRIPTION:  \n  \n  \n  \n🎉 You’re Invited! Join Us for a Special Crossover Night Service 🎉 \nDate: Tuesday\, December 31\, 2024\nTime: 9:00 PM till dawn\nVenue: The Church Auditorium  \nAs we prepare to step into the new year\, we invite you to join us for a spirit-filled Crossover Night Service! It’s a time to reflect on God’s goodness in 2024 and usher in 2025 with powerful prayers\, praise\, and thanksgiving. \nHighlights of the Night:\n✨ Heartfelt Worship & Praise\n✨ Inspiring Word of God\n✨ Prophetic Declarations for the New Year\n✨ Countdown to 2025 \nCome expectant for a fresh encounter with the Lord as we gather to celebrate His faithfulness and declare His promises over the new year. Bring your family and friends—it’s a night you don’t want to miss! \nLet’s step into 2025 together with joy\, faith\, and divine purpose!
URL:https://www.sfm.org.ng/event/crossover-service/
LOCATION:Scripture Foundation Ministries\, Abuja\, Nigeria
END:VEVENT
END:VCALENDAR