BEGIN:VCALENDAR
VERSION:2.0
PRODID:-//Scripture Foundation Ministries - ECPv6.15.20//NONSGML v1.0//EN
CALSCALE:GREGORIAN
METHOD:PUBLISH
X-WR-CALNAME:Scripture Foundation Ministries
X-ORIGINAL-URL:https://www.sfm.org.ng
X-WR-CALDESC:Events for Scripture Foundation Ministries
REFRESH-INTERVAL;VALUE=DURATION:PT1H
X-Robots-Tag:noindex
X-PUBLISHED-TTL:PT1H
BEGIN:VTIMEZONE
TZID:UTC
BEGIN:STANDARD
TZOFFSETFROM:+0000
TZOFFSETTO:+0000
TZNAME:UTC
DTSTART:20250101T000000
END:STANDARD
END:VTIMEZONE
BEGIN:VEVENT
DTSTART;TZID=UTC:20260102T170000
DTEND;TZID=UTC:20260102T190000
DTSTAMP:20260422T024052
CREATED:20260102T115515Z
LAST-MODIFIED:20260102T120401Z
UID:3980-1767373200-1767380400@www.sfm.org.ng
SUMMARY:Schedule for the 21 Day 2026 National Revival Program
DESCRIPTION:
URL:https://www.sfm.org.ng/event/schedule-for-the-21-day-2026-national-revival-program/
END:VEVENT
BEGIN:VEVENT
DTSTART;TZID=UTC:20260403T080000
DTEND;TZID=UTC:20260405T080000
DTSTAMP:20260422T024052
CREATED:20260328T222644Z
LAST-MODIFIED:20260330T155513Z
UID:3995-1775203200-1775376000@www.sfm.org.ng
SUMMARY:2026 Annual Convention/Retreat:-
DESCRIPTION:Theme: The Man – Christ Jesus (1 Timothy 2:5.\nDate: 3rd to 5th April\, 2026.\nVenue: 11\, Scripture Foundation Church Street\, Chikakore Hillside Community\, Kubwa\, Abuja.\nTime: from 8.00 am daily.\nMode: Residential. \nThere shall be ministrations in word and songs; teaching\, presentation\, discussions\, and intense prayer sessions. There shall also be the impartation of the power of God\, anointing for healing and deliverance\, as well as miracles and breakthroughs. \nInvite your friends\, neighbours\, and colleagues and expect a transformation and a life-changing encounter with God. \nGod bless you as you prepare to attend.
URL:https://www.sfm.org.ng/event/2026-annual-convention-retreat/
ATTACH;FMTTYPE=image/png:https://www.sfm.org.ng/wp-content/uploads/2026/03/ChatGPT-Image-Mar-30-2026-04_52_44-PM.png
END:VEVENT
END:VCALENDAR